BEGIN:VCALENDAR
VERSION:2.0
PRODID:-//North Los Angeles County - ECPv6.13.2.1//NONSGML v1.0//EN
CALSCALE:GREGORIAN
METHOD:PUBLISH
X-ORIGINAL-URL:https://nlacrc.org
X-WR-CALDESC:Events for North Los Angeles County
REFRESH-INTERVAL;VALUE=DURATION:PT1H
X-Robots-Tag:noindex
X-PUBLISHED-TTL:PT1H
BEGIN:VTIMEZONE
TZID:America/Los_Angeles
BEGIN:DAYLIGHT
TZOFFSETFROM:-0800
TZOFFSETTO:-0700
TZNAME:PDT
DTSTART:20260308T100000
END:DAYLIGHT
BEGIN:STANDARD
TZOFFSETFROM:-0700
TZOFFSETTO:-0800
TZNAME:PST
DTSTART:20261101T090000
END:STANDARD
END:VTIMEZONE
BEGIN:VEVENT
DTSTART;TZID=America/Los_Angeles:20260508T093000
DTEND;TZID=America/Los_Angeles:20260508T110000
DTSTAMP:20260420T144418
CREATED:20260109T221037Z
LAST-MODIFIED:20260109T221037Z
UID:10001204-1778232600-1778238000@nlacrc.org
SUMMARY:El Poder del Amor y la Paciencia (FFRC Event)
DESCRIPTION:
URL:https://nlacrc.org/calendar/el-poder-del-amor-y-la-paciencia-ffrc-event/2026-05-08/
CATEGORIES:Community,Events
END:VEVENT
BEGIN:VEVENT
DTSTART;TZID=America/Los_Angeles:20260612T093000
DTEND;TZID=America/Los_Angeles:20260612T110000
DTSTAMP:20260420T144418
CREATED:20260109T221037Z
LAST-MODIFIED:20260109T221037Z
UID:10001205-1781256600-1781262000@nlacrc.org
SUMMARY:El Poder del Amor y la Paciencia (FFRC Event)
DESCRIPTION:
URL:https://nlacrc.org/calendar/el-poder-del-amor-y-la-paciencia-ffrc-event/2026-06-12/
CATEGORIES:Community,Events
END:VEVENT
BEGIN:VEVENT
DTSTART;TZID=America/Los_Angeles:20260814T093000
DTEND;TZID=America/Los_Angeles:20260814T110000
DTSTAMP:20260420T144418
CREATED:20260109T221037Z
LAST-MODIFIED:20260109T221037Z
UID:10001206-1786699800-1786705200@nlacrc.org
SUMMARY:El Poder del Amor y la Paciencia (FFRC Event)
DESCRIPTION:
URL:https://nlacrc.org/calendar/el-poder-del-amor-y-la-paciencia-ffrc-event/2026-08-14/
CATEGORIES:Community,Events
END:VEVENT
BEGIN:VEVENT
DTSTART;TZID=America/Los_Angeles:20260911T093000
DTEND;TZID=America/Los_Angeles:20260911T110000
DTSTAMP:20260420T144418
CREATED:20260109T221037Z
LAST-MODIFIED:20260109T221037Z
UID:10001207-1789119000-1789124400@nlacrc.org
SUMMARY:El Poder del Amor y la Paciencia (FFRC Event)
DESCRIPTION:
URL:https://nlacrc.org/calendar/el-poder-del-amor-y-la-paciencia-ffrc-event/2026-09-11/
CATEGORIES:Community,Events
END:VEVENT
BEGIN:VEVENT
DTSTART;TZID=America/Los_Angeles:20261009T093000
DTEND;TZID=America/Los_Angeles:20261009T110000
DTSTAMP:20260420T144418
CREATED:20260109T221037Z
LAST-MODIFIED:20260109T221037Z
UID:10001208-1791538200-1791543600@nlacrc.org
SUMMARY:El Poder del Amor y la Paciencia (FFRC Event)
DESCRIPTION:
URL:https://nlacrc.org/calendar/el-poder-del-amor-y-la-paciencia-ffrc-event/2026-10-09/
CATEGORIES:Community,Events
END:VEVENT
BEGIN:VEVENT
DTSTART;TZID=America/Los_Angeles:20261113T093000
DTEND;TZID=America/Los_Angeles:20261113T110000
DTSTAMP:20260420T144418
CREATED:20260109T221037Z
LAST-MODIFIED:20260109T221037Z
UID:10001209-1794562200-1794567600@nlacrc.org
SUMMARY:El Poder del Amor y la Paciencia (FFRC Event)
DESCRIPTION:
URL:https://nlacrc.org/calendar/el-poder-del-amor-y-la-paciencia-ffrc-event/2026-11-13/
CATEGORIES:Community,Events
END:VEVENT
BEGIN:VEVENT
DTSTART;TZID=America/Los_Angeles:20261211T093000
DTEND;TZID=America/Los_Angeles:20261211T110000
DTSTAMP:20260420T144418
CREATED:20260109T221037Z
LAST-MODIFIED:20260109T221037Z
UID:10001210-1796981400-1796986800@nlacrc.org
SUMMARY:El Poder del Amor y la Paciencia (FFRC Event)
DESCRIPTION:
URL:https://nlacrc.org/calendar/el-poder-del-amor-y-la-paciencia-ffrc-event/2026-12-11/
CATEGORIES:Community,Events
END:VEVENT
END:VCALENDAR